BEGIN:VCALENDAR
VERSION:2.0
PRODID:-//UW Robinson Center for Young Scholars - ECPv6.15.18//NONSGML v1.0//EN
CALSCALE:GREGORIAN
METHOD:PUBLISH
X-WR-CALNAME:UW Robinson Center for Young Scholars
X-ORIGINAL-URL:https://robinsoncenter.uw.edu
X-WR-CALDESC:Events for UW Robinson Center for Young Scholars
REFRESH-INTERVAL;VALUE=DURATION:PT1H
X-Robots-Tag:noindex
X-PUBLISHED-TTL:PT1H
BEGIN:VTIMEZONE
TZID:America/Los_Angeles
BEGIN:DAYLIGHT
TZOFFSETFROM:-0800
TZOFFSETTO:-0700
TZNAME:PDT
DTSTART:20230312T100000
END:DAYLIGHT
BEGIN:STANDARD
TZOFFSETFROM:-0700
TZOFFSETTO:-0800
TZNAME:PST
DTSTART:20231105T090000
END:STANDARD
BEGIN:DAYLIGHT
TZOFFSETFROM:-0800
TZOFFSETTO:-0700
TZNAME:PDT
DTSTART:20240310T100000
END:DAYLIGHT
BEGIN:STANDARD
TZOFFSETFROM:-0700
TZOFFSETTO:-0800
TZNAME:PST
DTSTART:20241103T090000
END:STANDARD
BEGIN:DAYLIGHT
TZOFFSETFROM:-0800
TZOFFSETTO:-0700
TZNAME:PDT
DTSTART:20250309T100000
END:DAYLIGHT
BEGIN:STANDARD
TZOFFSETFROM:-0700
TZOFFSETTO:-0800
TZNAME:PST
DTSTART:20251102T090000
END:STANDARD
END:VTIMEZONE
BEGIN:VEVENT
DTSTART;TZID=America/Los_Angeles:20241005T090000
DTEND;TZID=America/Los_Angeles:20241005T120000
DTSTAMP:20260419T194507
CREATED:20240731T183307Z
LAST-MODIFIED:20240731T183308Z
UID:10001477-1728118800-1728129600@robinsoncenter.uw.edu
SUMMARY:Fall Saturday Enrichment
DESCRIPTION:
URL:https://robinsoncenter.uw.edu/event/fall-saturday-enrichment-3/2024-10-05/
CATEGORIES:Enrichment,Saturday Program
END:VEVENT
BEGIN:VEVENT
DTSTART;TZID=America/Los_Angeles:20241012T090000
DTEND;TZID=America/Los_Angeles:20241012T120000
DTSTAMP:20260419T194507
CREATED:20240731T183307Z
LAST-MODIFIED:20240731T183308Z
UID:10001478-1728723600-1728734400@robinsoncenter.uw.edu
SUMMARY:Fall Saturday Enrichment
DESCRIPTION:
URL:https://robinsoncenter.uw.edu/event/fall-saturday-enrichment-3/2024-10-12/
CATEGORIES:Enrichment,Saturday Program
END:VEVENT
BEGIN:VEVENT
DTSTART;TZID=America/Los_Angeles:20241019T090000
DTEND;TZID=America/Los_Angeles:20241019T120000
DTSTAMP:20260419T194507
CREATED:20240731T183307Z
LAST-MODIFIED:20240731T183308Z
UID:10001479-1729328400-1729339200@robinsoncenter.uw.edu
SUMMARY:Fall Saturday Enrichment
DESCRIPTION:
URL:https://robinsoncenter.uw.edu/event/fall-saturday-enrichment-3/2024-10-19/
CATEGORIES:Enrichment,Saturday Program
END:VEVENT
BEGIN:VEVENT
DTSTART;TZID=America/Los_Angeles:20241024T183000
DTEND;TZID=America/Los_Angeles:20241024T203000
DTSTAMP:20260419T194507
CREATED:20240731T181726Z
LAST-MODIFIED:20241021T153301Z
UID:10001415-1729794600-1729801800@robinsoncenter.uw.edu
SUMMARY:Robinson Center Information Session
DESCRIPTION:On Thursday\, October 24th at 6:30pm\, join join RC staff for an in-person information session on Robinson Center programs\, including Transition School\, UW Academy\, and Saturday & Summer Enrichment. \nEvent will be held at Kane Hall on the University of Washington Campus.
URL:https://robinsoncenter.uw.edu/event/robinson-center-information-session/
CATEGORIES:EEP,Enrichment,Saturday Program,Summer Program,Transition School,UW Academy
ORGANIZER;CN="Robinson Center":MAILTO:rcys@uw.edu
END:VEVENT
BEGIN:VEVENT
DTSTART;TZID=America/Los_Angeles:20241026T090000
DTEND;TZID=America/Los_Angeles:20241026T120000
DTSTAMP:20260419T194507
CREATED:20240731T183307Z
LAST-MODIFIED:20240731T183308Z
UID:10001480-1729933200-1729944000@robinsoncenter.uw.edu
SUMMARY:Fall Saturday Enrichment
DESCRIPTION:
URL:https://robinsoncenter.uw.edu/event/fall-saturday-enrichment-3/2024-10-26/
CATEGORIES:Enrichment,Saturday Program
END:VEVENT
END:VCALENDAR