BEGIN:VCALENDAR
VERSION:2.0
PRODID:-//UW Robinson Center for Young Scholars - ECPv6.15.18//NONSGML v1.0//EN
CALSCALE:GREGORIAN
METHOD:PUBLISH
X-WR-CALNAME:UW Robinson Center for Young Scholars
X-ORIGINAL-URL:https://robinsoncenter.uw.edu
X-WR-CALDESC:Events for UW Robinson Center for Young Scholars
REFRESH-INTERVAL;VALUE=DURATION:PT1H
X-Robots-Tag:noindex
X-PUBLISHED-TTL:PT1H
BEGIN:VTIMEZONE
TZID:America/Los_Angeles
BEGIN:DAYLIGHT
TZOFFSETFROM:-0800
TZOFFSETTO:-0700
TZNAME:PDT
DTSTART:20230312T100000
END:DAYLIGHT
BEGIN:STANDARD
TZOFFSETFROM:-0700
TZOFFSETTO:-0800
TZNAME:PST
DTSTART:20231105T090000
END:STANDARD
BEGIN:DAYLIGHT
TZOFFSETFROM:-0800
TZOFFSETTO:-0700
TZNAME:PDT
DTSTART:20240310T100000
END:DAYLIGHT
BEGIN:STANDARD
TZOFFSETFROM:-0700
TZOFFSETTO:-0800
TZNAME:PST
DTSTART:20241103T090000
END:STANDARD
BEGIN:DAYLIGHT
TZOFFSETFROM:-0800
TZOFFSETTO:-0700
TZNAME:PDT
DTSTART:20250309T100000
END:DAYLIGHT
BEGIN:STANDARD
TZOFFSETFROM:-0700
TZOFFSETTO:-0800
TZNAME:PST
DTSTART:20251102T090000
END:STANDARD
END:VTIMEZONE
BEGIN:VEVENT
DTSTART;VALUE=DATE:20240701
DTEND;VALUE=DATE:20240702
DTSTAMP:20260420T221810
CREATED:20230922T225407Z
LAST-MODIFIED:20230922T230339Z
UID:10001410-1719792000-1719878399@robinsoncenter.uw.edu
SUMMARY:First Day of Summer Stretch
DESCRIPTION:Summer Stretch runs M-Th\, July 1-25. No class on July 4.
URL:https://robinsoncenter.uw.edu/event/first-day-of-summer-stretch-2/
CATEGORIES:Enrichment,Summer Program
END:VEVENT
END:VCALENDAR