BEGIN:VCALENDAR
VERSION:2.0
PRODID:-//UW Robinson Center for Young Scholars - ECPv6.15.18//NONSGML v1.0//EN
CALSCALE:GREGORIAN
METHOD:PUBLISH
X-WR-CALNAME:UW Robinson Center for Young Scholars
X-ORIGINAL-URL:https://robinsoncenter.uw.edu
X-WR-CALDESC:Events for UW Robinson Center for Young Scholars
REFRESH-INTERVAL;VALUE=DURATION:PT1H
X-Robots-Tag:noindex
X-PUBLISHED-TTL:PT1H
BEGIN:VTIMEZONE
TZID:America/Los_Angeles
BEGIN:DAYLIGHT
TZOFFSETFROM:-0800
TZOFFSETTO:-0700
TZNAME:PDT
DTSTART:20230312T100000
END:DAYLIGHT
BEGIN:STANDARD
TZOFFSETFROM:-0700
TZOFFSETTO:-0800
TZNAME:PST
DTSTART:20231105T090000
END:STANDARD
BEGIN:DAYLIGHT
TZOFFSETFROM:-0800
TZOFFSETTO:-0700
TZNAME:PDT
DTSTART:20240310T100000
END:DAYLIGHT
BEGIN:STANDARD
TZOFFSETFROM:-0700
TZOFFSETTO:-0800
TZNAME:PST
DTSTART:20241103T090000
END:STANDARD
BEGIN:DAYLIGHT
TZOFFSETFROM:-0800
TZOFFSETTO:-0700
TZNAME:PDT
DTSTART:20250309T100000
END:DAYLIGHT
BEGIN:STANDARD
TZOFFSETFROM:-0700
TZOFFSETTO:-0800
TZNAME:PST
DTSTART:20251102T090000
END:STANDARD
END:VTIMEZONE
BEGIN:VEVENT
DTSTART;TZID=America/Los_Angeles:20240908T160000
DTEND;TZID=America/Los_Angeles:20240908T160000
DTSTAMP:20260420T043826
CREATED:20240731T182559Z
LAST-MODIFIED:20240906T185939Z
UID:10001518-1725811200-1725811200@robinsoncenter.uw.edu
SUMMARY:Registration Opens for Fall Saturday Enrichment Classes
DESCRIPTION:Opens Sunday September 8th at 4pm! \nGo to your Robinson Center Account and select "Start and Application." Toggle to "Saturday Enrichment" and follow subsequent directions.
URL:https://robinsoncenter.uw.edu/event/registration-opens-for-fall-saturday-enrichment-classes/
CATEGORIES:Enrichment,Saturday Program
END:VEVENT
END:VCALENDAR