BEGIN:VCALENDAR
VERSION:2.0
PRODID:-//UW Robinson Center for Young Scholars - ECPv6.15.18//NONSGML v1.0//EN
CALSCALE:GREGORIAN
METHOD:PUBLISH
X-ORIGINAL-URL:https://robinsoncenter.uw.edu
X-WR-CALDESC:Events for UW Robinson Center for Young Scholars
REFRESH-INTERVAL;VALUE=DURATION:PT1H
X-Robots-Tag:noindex
X-PUBLISHED-TTL:PT1H
BEGIN:VTIMEZONE
TZID:America/Los_Angeles
BEGIN:DAYLIGHT
TZOFFSETFROM:-0800
TZOFFSETTO:-0700
TZNAME:PDT
DTSTART:20240310T100000
END:DAYLIGHT
BEGIN:STANDARD
TZOFFSETFROM:-0700
TZOFFSETTO:-0800
TZNAME:PST
DTSTART:20241103T090000
END:STANDARD
BEGIN:DAYLIGHT
TZOFFSETFROM:-0800
TZOFFSETTO:-0700
TZNAME:PDT
DTSTART:20250309T100000
END:DAYLIGHT
BEGIN:STANDARD
TZOFFSETFROM:-0700
TZOFFSETTO:-0800
TZNAME:PST
DTSTART:20251102T090000
END:STANDARD
BEGIN:DAYLIGHT
TZOFFSETFROM:-0800
TZOFFSETTO:-0700
TZNAME:PDT
DTSTART:20260308T100000
END:DAYLIGHT
BEGIN:STANDARD
TZOFFSETFROM:-0700
TZOFFSETTO:-0800
TZNAME:PST
DTSTART:20261101T090000
END:STANDARD
BEGIN:DAYLIGHT
TZOFFSETFROM:-0800
TZOFFSETTO:-0700
TZNAME:PDT
DTSTART:20270314T100000
END:DAYLIGHT
BEGIN:STANDARD
TZOFFSETFROM:-0700
TZOFFSETTO:-0800
TZNAME:PST
DTSTART:20271107T090000
END:STANDARD
END:VTIMEZONE
BEGIN:VEVENT
DTSTART;TZID=America/Los_Angeles:20260422T160000
DTEND;TZID=America/Los_Angeles:20260422T170000
DTSTAMP:20260422T200145
CREATED:20251030T170411Z
LAST-MODIFIED:20251030T170411Z
UID:10001613-1776873600-1776877200@robinsoncenter.uw.edu
SUMMARY:UW Academy: Drop-In Advising
DESCRIPTION:[vc_row][vc_column][vc_column_text css=""]The UW Academy team welcomes prospective students and family members during drop-in advising\, via Zoom\, held weekly on Wednesday from 4:00 PM - 5:00 between Nov 19th and 11th. \nPlease note: Drop-in advising will NOT be held when the University is closed for holidays (Dec 24\, Jan 1).[/vc_column_text][/vc_column][/vc_row]
URL:https://robinsoncenter.uw.edu/event/uw-academy-drop-in-advising/2026-04-22/
LOCATION:https://washington.zoom.us/j/99070301098
END:VEVENT
BEGIN:VEVENT
DTSTART;TZID=America/Los_Angeles:20260418T090000
DTEND;TZID=America/Los_Angeles:20260418T120000
DTSTAMP:20260422T200145
CREATED:20260116T212028Z
LAST-MODIFIED:20260116T212028Z
UID:10001667-1776502800-1776513600@robinsoncenter.uw.edu
SUMMARY:Spring Saturday Enrichment
DESCRIPTION:
URL:https://robinsoncenter.uw.edu/event/spring-saturday-enrichment-4/2026-04-18/
LOCATION:WA\, United States
CATEGORIES:Enrichment,Saturday Program
END:VEVENT
BEGIN:VEVENT
DTSTART;TZID=America/Los_Angeles:20260415T160000
DTEND;TZID=America/Los_Angeles:20260415T170000
DTSTAMP:20260422T200145
CREATED:20251030T170411Z
LAST-MODIFIED:20251030T170411Z
UID:10001612-1776268800-1776272400@robinsoncenter.uw.edu
SUMMARY:UW Academy: Drop-In Advising
DESCRIPTION:[vc_row][vc_column][vc_column_text css=""]The UW Academy team welcomes prospective students and family members during drop-in advising\, via Zoom\, held weekly on Wednesday from 4:00 PM - 5:00 between Nov 19th and 11th. \nPlease note: Drop-in advising will NOT be held when the University is closed for holidays (Dec 24\, Jan 1).[/vc_column_text][/vc_column][/vc_row]
URL:https://robinsoncenter.uw.edu/event/uw-academy-drop-in-advising/2026-04-15/
LOCATION:https://washington.zoom.us/j/99070301098
END:VEVENT
BEGIN:VEVENT
DTSTART;TZID=America/Los_Angeles:20260411T090000
DTEND;TZID=America/Los_Angeles:20260411T120000
DTSTAMP:20260422T200145
CREATED:20260116T212028Z
LAST-MODIFIED:20260116T212028Z
UID:10001666-1775898000-1775908800@robinsoncenter.uw.edu
SUMMARY:Spring Saturday Enrichment
DESCRIPTION:
URL:https://robinsoncenter.uw.edu/event/spring-saturday-enrichment-4/2026-04-11/
LOCATION:WA\, United States
CATEGORIES:Enrichment,Saturday Program
END:VEVENT
BEGIN:VEVENT
DTSTART;TZID=America/Los_Angeles:20260408T160000
DTEND;TZID=America/Los_Angeles:20260408T170000
DTSTAMP:20260422T200145
CREATED:20251030T170411Z
LAST-MODIFIED:20251030T170411Z
UID:10001611-1775664000-1775667600@robinsoncenter.uw.edu
SUMMARY:UW Academy: Drop-In Advising
DESCRIPTION:[vc_row][vc_column][vc_column_text css=""]The UW Academy team welcomes prospective students and family members during drop-in advising\, via Zoom\, held weekly on Wednesday from 4:00 PM - 5:00 between Nov 19th and 11th. \nPlease note: Drop-in advising will NOT be held when the University is closed for holidays (Dec 24\, Jan 1).[/vc_column_text][/vc_column][/vc_row]
URL:https://robinsoncenter.uw.edu/event/uw-academy-drop-in-advising/2026-04-08/
LOCATION:https://washington.zoom.us/j/99070301098
END:VEVENT
BEGIN:VEVENT
DTSTART;TZID=America/Los_Angeles:20260404T090000
DTEND;TZID=America/Los_Angeles:20260404T120000
DTSTAMP:20260422T200145
CREATED:20260116T212028Z
LAST-MODIFIED:20260116T212028Z
UID:10001665-1775293200-1775304000@robinsoncenter.uw.edu
SUMMARY:Spring Saturday Enrichment
DESCRIPTION:
URL:https://robinsoncenter.uw.edu/event/spring-saturday-enrichment-4/2026-04-04/
LOCATION:WA\, United States
CATEGORIES:Enrichment,Saturday Program
END:VEVENT
BEGIN:VEVENT
DTSTART;TZID=America/Los_Angeles:20260401T160000
DTEND;TZID=America/Los_Angeles:20260401T170000
DTSTAMP:20260422T200145
CREATED:20251030T170411Z
LAST-MODIFIED:20251030T170411Z
UID:10001610-1775059200-1775062800@robinsoncenter.uw.edu
SUMMARY:UW Academy: Drop-In Advising
DESCRIPTION:[vc_row][vc_column][vc_column_text css=""]The UW Academy team welcomes prospective students and family members during drop-in advising\, via Zoom\, held weekly on Wednesday from 4:00 PM - 5:00 between Nov 19th and 11th. \nPlease note: Drop-in advising will NOT be held when the University is closed for holidays (Dec 24\, Jan 1).[/vc_column_text][/vc_column][/vc_row]
URL:https://robinsoncenter.uw.edu/event/uw-academy-drop-in-advising/2026-04-01/
LOCATION:https://washington.zoom.us/j/99070301098
END:VEVENT
BEGIN:VEVENT
DTSTART;TZID=America/Los_Angeles:20260325T160000
DTEND;TZID=America/Los_Angeles:20260325T170000
DTSTAMP:20260422T200145
CREATED:20251030T170411Z
LAST-MODIFIED:20251030T170411Z
UID:10001609-1774454400-1774458000@robinsoncenter.uw.edu
SUMMARY:UW Academy: Drop-In Advising
DESCRIPTION:[vc_row][vc_column][vc_column_text css=""]The UW Academy team welcomes prospective students and family members during drop-in advising\, via Zoom\, held weekly on Wednesday from 4:00 PM - 5:00 between Nov 19th and 11th. \nPlease note: Drop-in advising will NOT be held when the University is closed for holidays (Dec 24\, Jan 1).[/vc_column_text][/vc_column][/vc_row]
URL:https://robinsoncenter.uw.edu/event/uw-academy-drop-in-advising/2026-03-25/
LOCATION:https://washington.zoom.us/j/99070301098
END:VEVENT
BEGIN:VEVENT
DTSTART;TZID=America/Los_Angeles:20260318T160000
DTEND;TZID=America/Los_Angeles:20260318T170000
DTSTAMP:20260422T200145
CREATED:20251030T170411Z
LAST-MODIFIED:20251030T170411Z
UID:10001608-1773849600-1773853200@robinsoncenter.uw.edu
SUMMARY:UW Academy: Drop-In Advising
DESCRIPTION:[vc_row][vc_column][vc_column_text css=""]The UW Academy team welcomes prospective students and family members during drop-in advising\, via Zoom\, held weekly on Wednesday from 4:00 PM - 5:00 between Nov 19th and 11th. \nPlease note: Drop-in advising will NOT be held when the University is closed for holidays (Dec 24\, Jan 1).[/vc_column_text][/vc_column][/vc_row]
URL:https://robinsoncenter.uw.edu/event/uw-academy-drop-in-advising/2026-03-18/
LOCATION:https://washington.zoom.us/j/99070301098
END:VEVENT
BEGIN:VEVENT
DTSTART;TZID=America/Los_Angeles:20260311T160000
DTEND;TZID=America/Los_Angeles:20260311T170000
DTSTAMP:20260422T200145
CREATED:20251030T170411Z
LAST-MODIFIED:20251030T170411Z
UID:10001607-1773244800-1773248400@robinsoncenter.uw.edu
SUMMARY:UW Academy: Drop-In Advising
DESCRIPTION:[vc_row][vc_column][vc_column_text css=""]The UW Academy team welcomes prospective students and family members during drop-in advising\, via Zoom\, held weekly on Wednesday from 4:00 PM - 5:00 between Nov 19th and 11th. \nPlease note: Drop-in advising will NOT be held when the University is closed for holidays (Dec 24\, Jan 1).[/vc_column_text][/vc_column][/vc_row]
URL:https://robinsoncenter.uw.edu/event/uw-academy-drop-in-advising/2026-03-11/
LOCATION:https://washington.zoom.us/j/99070301098
END:VEVENT
BEGIN:VEVENT
DTSTART;TZID=America/Los_Angeles:20260304T160000
DTEND;TZID=America/Los_Angeles:20260304T170000
DTSTAMP:20260422T200145
CREATED:20251030T170411Z
LAST-MODIFIED:20251030T170411Z
UID:10001606-1772640000-1772643600@robinsoncenter.uw.edu
SUMMARY:UW Academy: Drop-In Advising
DESCRIPTION:[vc_row][vc_column][vc_column_text css=""]The UW Academy team welcomes prospective students and family members during drop-in advising\, via Zoom\, held weekly on Wednesday from 4:00 PM - 5:00 between Nov 19th and 11th. \nPlease note: Drop-in advising will NOT be held when the University is closed for holidays (Dec 24\, Jan 1).[/vc_column_text][/vc_column][/vc_row]
URL:https://robinsoncenter.uw.edu/event/uw-academy-drop-in-advising/2026-03-04/
LOCATION:https://washington.zoom.us/j/99070301098
END:VEVENT
BEGIN:VEVENT
DTSTART;TZID=America/Los_Angeles:20260225T160000
DTEND;TZID=America/Los_Angeles:20260225T170000
DTSTAMP:20260422T200145
CREATED:20251030T170411Z
LAST-MODIFIED:20251030T170411Z
UID:10001605-1772035200-1772038800@robinsoncenter.uw.edu
SUMMARY:UW Academy: Drop-In Advising
DESCRIPTION:[vc_row][vc_column][vc_column_text css=""]The UW Academy team welcomes prospective students and family members during drop-in advising\, via Zoom\, held weekly on Wednesday from 4:00 PM - 5:00 between Nov 19th and 11th. \nPlease note: Drop-in advising will NOT be held when the University is closed for holidays (Dec 24\, Jan 1).[/vc_column_text][/vc_column][/vc_row]
URL:https://robinsoncenter.uw.edu/event/uw-academy-drop-in-advising/2026-02-25/
LOCATION:https://washington.zoom.us/j/99070301098
END:VEVENT
BEGIN:VEVENT
DTSTART;TZID=America/Los_Angeles:20260218T160000
DTEND;TZID=America/Los_Angeles:20260218T170000
DTSTAMP:20260422T200145
CREATED:20251030T170411Z
LAST-MODIFIED:20251030T170411Z
UID:10001604-1771430400-1771434000@robinsoncenter.uw.edu
SUMMARY:UW Academy: Drop-In Advising
DESCRIPTION:[vc_row][vc_column][vc_column_text css=""]The UW Academy team welcomes prospective students and family members during drop-in advising\, via Zoom\, held weekly on Wednesday from 4:00 PM - 5:00 between Nov 19th and 11th. \nPlease note: Drop-in advising will NOT be held when the University is closed for holidays (Dec 24\, Jan 1).[/vc_column_text][/vc_column][/vc_row]
URL:https://robinsoncenter.uw.edu/event/uw-academy-drop-in-advising/2026-02-18/
LOCATION:https://washington.zoom.us/j/99070301098
END:VEVENT
BEGIN:VEVENT
DTSTART;TZID=America/Los_Angeles:20260211T160000
DTEND;TZID=America/Los_Angeles:20260211T170000
DTSTAMP:20260422T200145
CREATED:20251030T170411Z
LAST-MODIFIED:20251030T170411Z
UID:10001603-1770825600-1770829200@robinsoncenter.uw.edu
SUMMARY:UW Academy: Drop-In Advising
DESCRIPTION:[vc_row][vc_column][vc_column_text css=""]The UW Academy team welcomes prospective students and family members during drop-in advising\, via Zoom\, held weekly on Wednesday from 4:00 PM - 5:00 between Nov 19th and 11th. \nPlease note: Drop-in advising will NOT be held when the University is closed for holidays (Dec 24\, Jan 1).[/vc_column_text][/vc_column][/vc_row]
URL:https://robinsoncenter.uw.edu/event/uw-academy-drop-in-advising/2026-02-11/
LOCATION:https://washington.zoom.us/j/99070301098
END:VEVENT
BEGIN:VEVENT
DTSTART;TZID=America/Los_Angeles:20260204T160000
DTEND;TZID=America/Los_Angeles:20260204T170000
DTSTAMP:20260422T200145
CREATED:20251030T170411Z
LAST-MODIFIED:20251030T170411Z
UID:10001602-1770220800-1770224400@robinsoncenter.uw.edu
SUMMARY:UW Academy: Drop-In Advising
DESCRIPTION:[vc_row][vc_column][vc_column_text css=""]The UW Academy team welcomes prospective students and family members during drop-in advising\, via Zoom\, held weekly on Wednesday from 4:00 PM - 5:00 between Nov 19th and 11th. \nPlease note: Drop-in advising will NOT be held when the University is closed for holidays (Dec 24\, Jan 1).[/vc_column_text][/vc_column][/vc_row]
URL:https://robinsoncenter.uw.edu/event/uw-academy-drop-in-advising/2026-02-04/
LOCATION:https://washington.zoom.us/j/99070301098
END:VEVENT
BEGIN:VEVENT
DTSTART;TZID=America/Los_Angeles:20260129T100000
DTEND;TZID=America/Los_Angeles:20260129T113000
DTSTAMP:20260422T200145
CREATED:20251030T212845Z
LAST-MODIFIED:20251030T212950Z
UID:10001660-1769680800-1769686200@robinsoncenter.uw.edu
SUMMARY:UW Academy: Visit Day
DESCRIPTION:[vc_row][vc_column][vc_column_text css=""]Prospective UW Academy students are invited to a brief in-person information session followed by a campus tour. \nThursday\, 1/29/2026: 10:00 AM - 11:30 AM (ECC\, Native Room (208))[/vc_column_text][/vc_column][/vc_row]
URL:https://robinsoncenter.uw.edu/event/uw-academy-visit-day-3/
LOCATION:WA\, United States
END:VEVENT
BEGIN:VEVENT
DTSTART;TZID=America/Los_Angeles:20260128T163000
DTEND;TZID=America/Los_Angeles:20260128T180000
DTSTAMP:20260422T200145
CREATED:20251030T185605Z
LAST-MODIFIED:20260120T191406Z
UID:10001657-1769617800-1769623200@robinsoncenter.uw.edu
SUMMARY:UW Academy: Writing Workshop
DESCRIPTION:[vc_row][vc_column][vc_column_text css=""]Writing support for prospective UW Academy students\, facilitated via Zoom by current UW Academy students. \nJoin Zoom Meeting: https://washington.zoom.us/j/96449824832 \n[/vc_column_text][/vc_column][/vc_row]
URL:https://robinsoncenter.uw.edu/event/uw-academy-writing-workshop-2/
LOCATION:https://washington.zoom.us/j/99070301098
END:VEVENT
BEGIN:VEVENT
DTSTART;TZID=America/Los_Angeles:20260128T160000
DTEND;TZID=America/Los_Angeles:20260128T170000
DTSTAMP:20260422T200145
CREATED:20251030T170411Z
LAST-MODIFIED:20251030T170411Z
UID:10001601-1769616000-1769619600@robinsoncenter.uw.edu
SUMMARY:UW Academy: Drop-In Advising
DESCRIPTION:[vc_row][vc_column][vc_column_text css=""]The UW Academy team welcomes prospective students and family members during drop-in advising\, via Zoom\, held weekly on Wednesday from 4:00 PM - 5:00 between Nov 19th and 11th. \nPlease note: Drop-in advising will NOT be held when the University is closed for holidays (Dec 24\, Jan 1).[/vc_column_text][/vc_column][/vc_row]
URL:https://robinsoncenter.uw.edu/event/uw-academy-drop-in-advising/2026-01-28/
LOCATION:https://washington.zoom.us/j/99070301098
END:VEVENT
BEGIN:VEVENT
DTSTART;TZID=America/Los_Angeles:20260128T100000
DTEND;TZID=America/Los_Angeles:20260128T233000
DTSTAMP:20260422T200145
CREATED:20251030T212045Z
LAST-MODIFIED:20251030T212141Z
UID:10001659-1769594400-1769643000@robinsoncenter.uw.edu
SUMMARY:UW Academy: Visit Day
DESCRIPTION:[vc_row][vc_column][vc_column_text css=""]Prospective UW Academy students are invited to a brief in-person information session followed by a campus tour. \nWednesday\, 1/28/2026: 10:00 AM - 11:30 AM (ECC\, Native Room (208))[/vc_column_text][/vc_column][/vc_row]
URL:https://robinsoncenter.uw.edu/event/uw-academy-visit-day-2/
LOCATION:WA\, United States
END:VEVENT
BEGIN:VEVENT
DTSTART;TZID=America/Los_Angeles:20260127T140000
DTEND;TZID=America/Los_Angeles:20260127T153000
DTSTAMP:20260422T200145
CREATED:20251030T211520Z
LAST-MODIFIED:20251030T211710Z
UID:10001658-1769522400-1769527800@robinsoncenter.uw.edu
SUMMARY:UW Academy: Visit Day
DESCRIPTION:[vc_row][vc_column][vc_column_text css=""]Prospective UW Academy students are invited to a brief in-person information session followed by a campus tour. \nTuesday\, 1/27/2026: 2:00 PM - 3:30 PM (ECC\, Native Room (208))[/vc_column_text][/vc_column][/vc_row]
URL:https://robinsoncenter.uw.edu/event/uw-academy-visit-day/
LOCATION:WA\, United States
END:VEVENT
BEGIN:VEVENT
DTSTART;TZID=America/Los_Angeles:20260121T160000
DTEND;TZID=America/Los_Angeles:20260121T170000
DTSTAMP:20260422T200145
CREATED:20251030T170411Z
LAST-MODIFIED:20251030T170411Z
UID:10001600-1769011200-1769014800@robinsoncenter.uw.edu
SUMMARY:UW Academy: Drop-In Advising
DESCRIPTION:[vc_row][vc_column][vc_column_text css=""]The UW Academy team welcomes prospective students and family members during drop-in advising\, via Zoom\, held weekly on Wednesday from 4:00 PM - 5:00 between Nov 19th and 11th. \nPlease note: Drop-in advising will NOT be held when the University is closed for holidays (Dec 24\, Jan 1).[/vc_column_text][/vc_column][/vc_row]
URL:https://robinsoncenter.uw.edu/event/uw-academy-drop-in-advising/2026-01-21/
LOCATION:https://washington.zoom.us/j/99070301098
END:VEVENT
BEGIN:VEVENT
DTSTART;TZID=America/Los_Angeles:20260114T160000
DTEND;TZID=America/Los_Angeles:20260114T170000
DTSTAMP:20260422T200145
CREATED:20251030T170411Z
LAST-MODIFIED:20251030T170411Z
UID:10001599-1768406400-1768410000@robinsoncenter.uw.edu
SUMMARY:UW Academy: Drop-In Advising
DESCRIPTION:[vc_row][vc_column][vc_column_text css=""]The UW Academy team welcomes prospective students and family members during drop-in advising\, via Zoom\, held weekly on Wednesday from 4:00 PM - 5:00 between Nov 19th and 11th. \nPlease note: Drop-in advising will NOT be held when the University is closed for holidays (Dec 24\, Jan 1).[/vc_column_text][/vc_column][/vc_row]
URL:https://robinsoncenter.uw.edu/event/uw-academy-drop-in-advising/2026-01-14/
LOCATION:https://washington.zoom.us/j/99070301098
END:VEVENT
BEGIN:VEVENT
DTSTART;TZID=America/Los_Angeles:20260110T090000
DTEND;TZID=America/Los_Angeles:20260110T120000
DTSTAMP:20260422T200145
CREATED:20260116T211842Z
LAST-MODIFIED:20260116T211842Z
UID:10001663-1768035600-1768046400@robinsoncenter.uw.edu
SUMMARY:Winter Saturday Enrichment
DESCRIPTION:
URL:https://robinsoncenter.uw.edu/event/winter-saturday-enrichment-3/
LOCATION:WA\, United States
CATEGORIES:Enrichment,Saturday Program
END:VEVENT
BEGIN:VEVENT
DTSTART;TZID=America/Los_Angeles:20260108T170000
DTEND;TZID=America/Los_Angeles:20260108T180000
DTSTAMP:20260422T200145
CREATED:20251209T165104Z
LAST-MODIFIED:20251209T165210Z
UID:10001662-1767891600-1767895200@robinsoncenter.uw.edu
SUMMARY:Transition School Application Information Session
DESCRIPTION:
URL:https://robinsoncenter.uw.edu/event/transition-school-application-information-session/
LOCATION:https://robinsoncenter.uw.edu/event/transition-school-application-information-session/
END:VEVENT
BEGIN:VEVENT
DTSTART;TZID=America/Los_Angeles:20260107T163000
DTEND;TZID=America/Los_Angeles:20260107T180000
DTSTAMP:20260422T200145
CREATED:20251030T185446Z
LAST-MODIFIED:20251030T185733Z
UID:10001656-1767803400-1767808800@robinsoncenter.uw.edu
SUMMARY:UW Academy: Writing Workshop
DESCRIPTION:[vc_row][vc_column][vc_column_text css=""]Writing support for UW Academy prospective students\, facilitated via Zoom by current UW Academy students. \nJoin Zoom Meeting: https://washington.zoom.us/j/95122160341 \n[/vc_column_text][/vc_column][/vc_row]
URL:https://robinsoncenter.uw.edu/event/uw-academy-writing-workshop/
LOCATION:https://washington.zoom.us/j/99070301098
END:VEVENT
BEGIN:VEVENT
DTSTART;TZID=America/Los_Angeles:20260107T160000
DTEND;TZID=America/Los_Angeles:20260107T170000
DTSTAMP:20260422T200145
CREATED:20251030T170411Z
LAST-MODIFIED:20251030T170411Z
UID:10001598-1767801600-1767805200@robinsoncenter.uw.edu
SUMMARY:UW Academy: Drop-In Advising
DESCRIPTION:[vc_row][vc_column][vc_column_text css=""]The UW Academy team welcomes prospective students and family members during drop-in advising\, via Zoom\, held weekly on Wednesday from 4:00 PM - 5:00 between Nov 19th and 11th. \nPlease note: Drop-in advising will NOT be held when the University is closed for holidays (Dec 24\, Jan 1).[/vc_column_text][/vc_column][/vc_row]
URL:https://robinsoncenter.uw.edu/event/uw-academy-drop-in-advising/2026-01-07/
LOCATION:https://washington.zoom.us/j/99070301098
END:VEVENT
BEGIN:VEVENT
DTSTART;TZID=America/Los_Angeles:20251217T160000
DTEND;TZID=America/Los_Angeles:20251217T170000
DTSTAMP:20260422T200145
CREATED:20251030T170411Z
LAST-MODIFIED:20251030T170411Z
UID:10001597-1765987200-1765990800@robinsoncenter.uw.edu
SUMMARY:UW Academy: Drop-In Advising
DESCRIPTION:[vc_row][vc_column][vc_column_text css=""]The UW Academy team welcomes prospective students and family members during drop-in advising\, via Zoom\, held weekly on Wednesday from 4:00 PM - 5:00 between Nov 19th and 11th. \nPlease note: Drop-in advising will NOT be held when the University is closed for holidays (Dec 24\, Jan 1).[/vc_column_text][/vc_column][/vc_row]
URL:https://robinsoncenter.uw.edu/event/uw-academy-drop-in-advising/2025-12-17/
LOCATION:https://washington.zoom.us/j/99070301098
END:VEVENT
BEGIN:VEVENT
DTSTART;TZID=America/Los_Angeles:20251210T160000
DTEND;TZID=America/Los_Angeles:20251210T170000
DTSTAMP:20260422T200145
CREATED:20251030T170411Z
LAST-MODIFIED:20251030T170411Z
UID:10001596-1765382400-1765386000@robinsoncenter.uw.edu
SUMMARY:UW Academy: Drop-In Advising
DESCRIPTION:[vc_row][vc_column][vc_column_text css=""]The UW Academy team welcomes prospective students and family members during drop-in advising\, via Zoom\, held weekly on Wednesday from 4:00 PM - 5:00 between Nov 19th and 11th. \nPlease note: Drop-in advising will NOT be held when the University is closed for holidays (Dec 24\, Jan 1).[/vc_column_text][/vc_column][/vc_row]
URL:https://robinsoncenter.uw.edu/event/uw-academy-drop-in-advising/2025-12-10/
LOCATION:https://washington.zoom.us/j/99070301098
END:VEVENT
BEGIN:VEVENT
DTSTART;TZID=America/Los_Angeles:20251203T160000
DTEND;TZID=America/Los_Angeles:20251203T170000
DTSTAMP:20260422T200145
CREATED:20251030T170411Z
LAST-MODIFIED:20251030T170411Z
UID:10001595-1764777600-1764781200@robinsoncenter.uw.edu
SUMMARY:UW Academy: Drop-In Advising
DESCRIPTION:[vc_row][vc_column][vc_column_text css=""]The UW Academy team welcomes prospective students and family members during drop-in advising\, via Zoom\, held weekly on Wednesday from 4:00 PM - 5:00 between Nov 19th and 11th. \nPlease note: Drop-in advising will NOT be held when the University is closed for holidays (Dec 24\, Jan 1).[/vc_column_text][/vc_column][/vc_row]
URL:https://robinsoncenter.uw.edu/event/uw-academy-drop-in-advising/2025-12-03/
LOCATION:https://washington.zoom.us/j/99070301098
END:VEVENT
BEGIN:VEVENT
DTSTART;TZID=America/Los_Angeles:20251126T160000
DTEND;TZID=America/Los_Angeles:20251126T170000
DTSTAMP:20260422T200145
CREATED:20251030T170411Z
LAST-MODIFIED:20251030T170411Z
UID:10001594-1764172800-1764176400@robinsoncenter.uw.edu
SUMMARY:UW Academy: Drop-In Advising
DESCRIPTION:[vc_row][vc_column][vc_column_text css=""]The UW Academy team welcomes prospective students and family members during drop-in advising\, via Zoom\, held weekly on Wednesday from 4:00 PM - 5:00 between Nov 19th and 11th. \nPlease note: Drop-in advising will NOT be held when the University is closed for holidays (Dec 24\, Jan 1).[/vc_column_text][/vc_column][/vc_row]
URL:https://robinsoncenter.uw.edu/event/uw-academy-drop-in-advising/2025-11-26/
LOCATION:https://washington.zoom.us/j/99070301098
END:VEVENT
END:VCALENDAR